BEGIN:VCALENDAR
VERSION:2.0
PRODID:-//Politics for the Many - ECPv6.15.20//NONSGML v1.0//EN
CALSCALE:GREGORIAN
METHOD:PUBLISH
X-ORIGINAL-URL:https://politicsforthemany.co.uk
X-WR-CALDESC:Events for Politics for the Many
REFRESH-INTERVAL;VALUE=DURATION:PT1H
X-Robots-Tag:noindex
X-PUBLISHED-TTL:PT1H
BEGIN:VTIMEZONE
TZID:Europe/London
BEGIN:DAYLIGHT
TZOFFSETFROM:+0000
TZOFFSETTO:+0100
TZNAME:BST
DTSTART:20180325T010000
END:DAYLIGHT
BEGIN:STANDARD
TZOFFSETFROM:+0100
TZOFFSETTO:+0000
TZNAME:GMT
DTSTART:20181028T010000
END:STANDARD
BEGIN:DAYLIGHT
TZOFFSETFROM:+0000
TZOFFSETTO:+0100
TZNAME:BST
DTSTART:20190331T010000
END:DAYLIGHT
BEGIN:STANDARD
TZOFFSETFROM:+0100
TZOFFSETTO:+0000
TZNAME:GMT
DTSTART:20191027T010000
END:STANDARD
BEGIN:DAYLIGHT
TZOFFSETFROM:+0000
TZOFFSETTO:+0100
TZNAME:BST
DTSTART:20200329T010000
END:DAYLIGHT
BEGIN:STANDARD
TZOFFSETFROM:+0100
TZOFFSETTO:+0000
TZNAME:GMT
DTSTART:20201025T010000
END:STANDARD
END:VTIMEZONE
BEGIN:VEVENT
DTSTART;TZID=Europe/London:20190923T140000
DTEND;TZID=Europe/London:20190923T150000
DTSTAMP:20260426T053350
CREATED:20190815T151806Z
LAST-MODIFIED:20190815T151806Z
UID:452-1569247200-1569250800@politicsforthemany.co.uk
SUMMARY:Politics for the many: Transforming power for a real democracy (Labour Conference)
DESCRIPTION:Join Politics for the Many\, the trade union campaign for political reform\, for a panel discussion on creating a political system that works for workers. \nFeaturing Jon Trickett MP\, former MEP David Martin and Dr Jess Garland at Labour Party Conference. \nThe event will include a buffet lunch.
URL:https://politicsforthemany.co.uk/event/politics-for-the-many-transforming-power-for-a-real-democracy-labour-conference/
LOCATION:Jurys Inn Brighton Waterfront\, Kings Rd\, Brighton\, BN1 2GS\, United Kingdom
ATTACH;FMTTYPE=image/jpeg:https://politicsforthemany.co.uk/wp-content/uploads/2018/03/Politics-for-the-Many-cover.jpg
END:VEVENT
END:VCALENDAR