BEGIN:VCALENDAR
VERSION:2.0
PRODID:-//Politics for the Many - ECPv6.15.20//NONSGML v1.0//EN
CALSCALE:GREGORIAN
METHOD:PUBLISH
X-ORIGINAL-URL:https://politicsforthemany.co.uk
X-WR-CALDESC:Events for Politics for the Many
REFRESH-INTERVAL;VALUE=DURATION:PT1H
X-Robots-Tag:noindex
X-PUBLISHED-TTL:PT1H
BEGIN:VTIMEZONE
TZID:Europe/London
BEGIN:DAYLIGHT
TZOFFSETFROM:+0000
TZOFFSETTO:+0100
TZNAME:BST
DTSTART:20200329T010000
END:DAYLIGHT
BEGIN:STANDARD
TZOFFSETFROM:+0100
TZOFFSETTO:+0000
TZNAME:GMT
DTSTART:20201025T010000
END:STANDARD
BEGIN:DAYLIGHT
TZOFFSETFROM:+0000
TZOFFSETTO:+0100
TZNAME:BST
DTSTART:20210328T010000
END:DAYLIGHT
BEGIN:STANDARD
TZOFFSETFROM:+0100
TZOFFSETTO:+0000
TZNAME:GMT
DTSTART:20211031T010000
END:STANDARD
BEGIN:DAYLIGHT
TZOFFSETFROM:+0000
TZOFFSETTO:+0100
TZNAME:BST
DTSTART:20220327T010000
END:DAYLIGHT
BEGIN:STANDARD
TZOFFSETFROM:+0100
TZOFFSETTO:+0000
TZNAME:GMT
DTSTART:20221030T010000
END:STANDARD
END:VTIMEZONE
BEGIN:VEVENT
DTSTART;TZID=Europe/London:20210913T183000
DTEND;TZID=Europe/London:20210913T193000
DTSTAMP:20260424T105451
CREATED:20210811T163458Z
LAST-MODIFIED:20210906T130306Z
UID:696-1631557800-1631561400@politicsforthemany.co.uk
SUMMARY:Has FPTP Worked for Workers? (TUC Congress)
DESCRIPTION:The powerful levers of the state are being used to undo rights and freedoms\, attack communities and lock people out of their democratic rights. Growing mistrust of politics and politicians is opening the door to a resurgent authoritarian right. Empowerment is perhaps the most important thing the trade union movement can offer people. Only by putting democracy at the heart of our agenda can we build an economy and society that works for all – a politics for the many. \nChair: Lynn Henderson\, PCS and Chair of Politics for the Many \nSpeakers:\n\nSam Tarry MP\nJulie Ward – former MEP and Unite member\nCllr James Beckles – Unison member\nJulian Vaughan – ASLEF member and former PPC\nPauline McCarthy – BFAWU and member of Labour NEC\nCaroline Osborne – Labour for a New Democracy and Unite member\n\nAs this is a fringe event you do not need to be a delegate to attend. \n Register Attendence
URL:https://politicsforthemany.co.uk/event/has-fptp-worked-for-workers-tuc-congress/
LOCATION:Online
ATTACH;FMTTYPE=image/jpeg:https://politicsforthemany.co.uk/wp-content/uploads/2018/03/Politics-for-the-Many-cover.jpg
END:VEVENT
END:VCALENDAR