BEGIN:VCALENDAR
VERSION:2.0
PRODID:-//Politics for the Many - ECPv6.15.20//NONSGML v1.0//EN
CALSCALE:GREGORIAN
METHOD:PUBLISH
X-WR-CALNAME:Politics for the Many
X-ORIGINAL-URL:https://politicsforthemany.co.uk
X-WR-CALDESC:Events for Politics for the Many
REFRESH-INTERVAL;VALUE=DURATION:PT1H
X-Robots-Tag:noindex
X-PUBLISHED-TTL:PT1H
BEGIN:VTIMEZONE
TZID:Europe/London
BEGIN:DAYLIGHT
TZOFFSETFROM:+0000
TZOFFSETTO:+0100
TZNAME:BST
DTSTART:20200329T010000
END:DAYLIGHT
BEGIN:STANDARD
TZOFFSETFROM:+0100
TZOFFSETTO:+0000
TZNAME:GMT
DTSTART:20201025T010000
END:STANDARD
BEGIN:DAYLIGHT
TZOFFSETFROM:+0000
TZOFFSETTO:+0100
TZNAME:BST
DTSTART:20210328T010000
END:DAYLIGHT
BEGIN:STANDARD
TZOFFSETFROM:+0100
TZOFFSETTO:+0000
TZNAME:GMT
DTSTART:20211031T010000
END:STANDARD
BEGIN:DAYLIGHT
TZOFFSETFROM:+0000
TZOFFSETTO:+0100
TZNAME:BST
DTSTART:20220327T010000
END:DAYLIGHT
BEGIN:STANDARD
TZOFFSETFROM:+0100
TZOFFSETTO:+0000
TZNAME:GMT
DTSTART:20221030T010000
END:STANDARD
END:VTIMEZONE
BEGIN:VEVENT
DTSTART;TZID=Europe/London:20210925T203000
DTEND;TZID=Europe/London:20210925T213000
DTSTAMP:20260424T105251
CREATED:20210914T144641Z
LAST-MODIFIED:20210914T144641Z
UID:716-1632601800-1632605400@politicsforthemany.co.uk
SUMMARY:Why First Past the Post doesn’t add up for Labour (L4ND - Labour Conference)
DESCRIPTION:Join Labour for a New Democracy for Why First Past the Post doesn’t add up for Labour. \nAt its founding\, the Labour Party was committed to Proportional Representation. But as Labour came to replace the Liberals as the second party of British politics\, it came to embrace First Past the Post. Yet over the century that followed\, FPTP has delivered neither the fair and equal society nor the open and inclusive democracy that Labour stands for. \nJoin the panel to hear why FPTP doesn’t stack up for Labour\, and why we must back a fair\, proportional system at this year’s Labour Party conference. \nChair: Nancy Platts (Politics for the Many) \n\nProfessor Rob Ford (University of Manchester)\nDebbie Abrahams MP (Oldham East & Saddleworth)\nAlex Sobel MP (Leeds North West)\nOlivia Blake MP (Sheffield Hallam)\nPaul Sweeney MSP (Glasgow Region)\n\n\n\n\n\n\n\n\nRefreshments provided.\nWheelchair access.
URL:https://politicsforthemany.co.uk/event/why-first-past-the-post-doesnt-add-up-for-labour-l4nd-labour-conference/
LOCATION:St Paul’s Parish Church\, West Street\, Brighton\, Sussex\, BN1 2RE\, United Kingdom
ATTACH;FMTTYPE=image/jpeg:https://politicsforthemany.co.uk/wp-content/uploads/2021/09/Fringe1-scaled.jpg
ORGANIZER;CN="Labour for a New Democracy":MAILTO:hello@labourforanewdemocracy.org.uk
END:VEVENT
END:VCALENDAR