BEGIN:VCALENDAR
VERSION:2.0
PRODID:-//Politics for the Many - ECPv6.15.20//NONSGML v1.0//EN
CALSCALE:GREGORIAN
METHOD:PUBLISH
X-ORIGINAL-URL:https://politicsforthemany.co.uk
X-WR-CALDESC:Events for Politics for the Many
REFRESH-INTERVAL;VALUE=DURATION:PT1H
X-Robots-Tag:noindex
X-PUBLISHED-TTL:PT1H
BEGIN:VTIMEZONE
TZID:Europe/London
BEGIN:DAYLIGHT
TZOFFSETFROM:+0000
TZOFFSETTO:+0100
TZNAME:BST
DTSTART:20200329T010000
END:DAYLIGHT
BEGIN:STANDARD
TZOFFSETFROM:+0100
TZOFFSETTO:+0000
TZNAME:GMT
DTSTART:20201025T010000
END:STANDARD
BEGIN:DAYLIGHT
TZOFFSETFROM:+0000
TZOFFSETTO:+0100
TZNAME:BST
DTSTART:20210328T010000
END:DAYLIGHT
BEGIN:STANDARD
TZOFFSETFROM:+0100
TZOFFSETTO:+0000
TZNAME:GMT
DTSTART:20211031T010000
END:STANDARD
BEGIN:DAYLIGHT
TZOFFSETFROM:+0000
TZOFFSETTO:+0100
TZNAME:BST
DTSTART:20220327T010000
END:DAYLIGHT
BEGIN:STANDARD
TZOFFSETFROM:+0100
TZOFFSETTO:+0000
TZNAME:GMT
DTSTART:20221030T010000
END:STANDARD
END:VTIMEZONE
BEGIN:VEVENT
DTSTART;TZID=Europe/London:20210927T143000
DTEND;TZID=Europe/London:20210927T153000
DTSTAMP:20260422T065122
CREATED:20210721T135142Z
LAST-MODIFIED:20210916T123322Z
UID:693-1632753000-1632756600@politicsforthemany.co.uk
SUMMARY:Democratising the British State – The Foundation of a Good Society (Labour Conference)
DESCRIPTION:To transform Britain a Labour government must first transform our democracy. \nFor too long the conservative nature of our political system has acted as a barrier to the policies we need to tackle the crises we face – on climate\, on housing or the economy. \nJoin Clive Lewis MP\, Sam Tarry MP\, Christine Berry (Editor of The New Foundations)\, the ERS’ Jessica Garland and Open Labour’s Keiran O’Neill to discuss how a better democracy is the foundations of a progressive policy agenda. \nRemaking the state is not a ‘nice to have’\, but the only way a Labour Government can change Britain for good. \nPresented by Politics for the Many and Open Labour.
URL:https://politicsforthemany.co.uk/event/democratising-the-british-state-the-foundation-of-a-good-society/
LOCATION:The Old Ship Hotel\, Kings Road\, Brighton\, BN1 1NR\, United Kingdom
ATTACH;FMTTYPE=image/jpeg:https://politicsforthemany.co.uk/wp-content/uploads/2021/03/The-New-Foundations-landscape-scaled.jpg
END:VEVENT
BEGIN:VEVENT
DTSTART;TZID=Europe/London:20210927T203000
DTEND;TZID=Europe/London:20210927T230000
DTSTAMP:20260422T065122
CREATED:20210914T145608Z
LAST-MODIFIED:20210914T145608Z
UID:722-1632774600-1632783600@politicsforthemany.co.uk
SUMMARY:Where next for Labour and PR? (L4ND - Labour Conference)
DESCRIPTION:Join Labour for a New Democracy and Labour Campaign for Electoral Reform for Where next for Labour and PR? \nThere’s unprecedented demand for Proportional Representation among the Labour membership. Join the panel on Monday night as they take stock of what the Labour movement for PR has gained at conference 2021 – and join the discussion about the next steps of the campaign. \nChair: Zoe Williams (Guardian columnist) \n\nSandy Martin (Labour Campaign for Electoral Reform)\nTessa Milligan (Open Labour)\nLaura Parker (Labour for a New Democracy)\nProfessor Jeremy Gilbert (University of East London)\n\nRefreshments provided. Wheelchair access.
URL:https://politicsforthemany.co.uk/event/where-next-for-labour-and-pr-l4nd-labour-conference/
LOCATION:St Paul’s Parish Church\, West Street\, Brighton\, Sussex\, BN1 2RE\, United Kingdom
ATTACH;FMTTYPE=image/jpeg:https://politicsforthemany.co.uk/wp-content/uploads/2021/09/Fringe3-scaled.jpg
ORGANIZER;CN="Labour for a New Democracy":MAILTO:hello@labourforanewdemocracy.org.uk
END:VEVENT
END:VCALENDAR