BEGIN:VCALENDAR
VERSION:2.0
PRODID:-//Politics for the Many - ECPv6.15.20//NONSGML v1.0//EN
CALSCALE:GREGORIAN
METHOD:PUBLISH
X-ORIGINAL-URL:https://politicsforthemany.co.uk
X-WR-CALDESC:Events for Politics for the Many
REFRESH-INTERVAL;VALUE=DURATION:PT1H
X-Robots-Tag:noindex
X-PUBLISHED-TTL:PT1H
BEGIN:VTIMEZONE
TZID:Europe/London
BEGIN:DAYLIGHT
TZOFFSETFROM:+0000
TZOFFSETTO:+0100
TZNAME:BST
DTSTART:20200329T010000
END:DAYLIGHT
BEGIN:STANDARD
TZOFFSETFROM:+0100
TZOFFSETTO:+0000
TZNAME:GMT
DTSTART:20201025T010000
END:STANDARD
BEGIN:DAYLIGHT
TZOFFSETFROM:+0000
TZOFFSETTO:+0100
TZNAME:BST
DTSTART:20210328T010000
END:DAYLIGHT
BEGIN:STANDARD
TZOFFSETFROM:+0100
TZOFFSETTO:+0000
TZNAME:GMT
DTSTART:20211031T010000
END:STANDARD
BEGIN:DAYLIGHT
TZOFFSETFROM:+0000
TZOFFSETTO:+0100
TZNAME:BST
DTSTART:20220327T010000
END:DAYLIGHT
BEGIN:STANDARD
TZOFFSETFROM:+0100
TZOFFSETTO:+0000
TZNAME:GMT
DTSTART:20221030T010000
END:STANDARD
END:VTIMEZONE
BEGIN:VEVENT
DTSTART;TZID=Europe/London:20210928T140000
DTEND;TZID=Europe/London:20210928T153000
DTSTAMP:20260422T065103
CREATED:20210914T145949Z
LAST-MODIFIED:20210914T145949Z
UID:724-1632837600-1632843000@politicsforthemany.co.uk
SUMMARY:Does Labour need to work with other parties to win power? (ERS - Labour Conference)
DESCRIPTION:Join the Electoral Reform Society and the Fabians to discuss if Labour needs to work with other parties to win power. \n\nProfessor Sir John Curtice\nClive Lewis MP\nAyesha Hazarika (Columnist and Broadcaster)\nCllr Shaista Aziz\nNancy Platts (Politics for the Many)\nJess Garland (ERS)
URL:https://politicsforthemany.co.uk/event/does-labour-need-to-work-with-other-parties-to-win-power-ers-labour-conference/
LOCATION:Holiday Inn Brighton Seafront\, Kings Rd\, Brighton\, BN1 2JF\, United Kingdom
ATTACH;FMTTYPE=image/jpeg:https://politicsforthemany.co.uk/wp-content/uploads/2021/09/polling-station-992x561-1-scaled.jpeg
END:VEVENT
END:VCALENDAR