BEGIN:VCALENDAR
VERSION:2.0
PRODID:-//Politics for the Many - ECPv6.15.20//NONSGML v1.0//EN
CALSCALE:GREGORIAN
METHOD:PUBLISH
X-WR-CALNAME:Politics for the Many
X-ORIGINAL-URL:https://politicsforthemany.co.uk
X-WR-CALDESC:Events for Politics for the Many
REFRESH-INTERVAL;VALUE=DURATION:PT1H
X-Robots-Tag:noindex
X-PUBLISHED-TTL:PT1H
BEGIN:VTIMEZONE
TZID:Europe/London
BEGIN:DAYLIGHT
TZOFFSETFROM:+0000
TZOFFSETTO:+0100
TZNAME:BST
DTSTART:20210328T010000
END:DAYLIGHT
BEGIN:STANDARD
TZOFFSETFROM:+0100
TZOFFSETTO:+0000
TZNAME:GMT
DTSTART:20211031T010000
END:STANDARD
BEGIN:DAYLIGHT
TZOFFSETFROM:+0000
TZOFFSETTO:+0100
TZNAME:BST
DTSTART:20220327T010000
END:DAYLIGHT
BEGIN:STANDARD
TZOFFSETFROM:+0100
TZOFFSETTO:+0000
TZNAME:GMT
DTSTART:20221030T010000
END:STANDARD
BEGIN:DAYLIGHT
TZOFFSETFROM:+0000
TZOFFSETTO:+0100
TZNAME:BST
DTSTART:20230326T010000
END:DAYLIGHT
BEGIN:STANDARD
TZOFFSETFROM:+0100
TZOFFSETTO:+0000
TZNAME:GMT
DTSTART:20231029T010000
END:STANDARD
END:VTIMEZONE
BEGIN:VEVENT
DTSTART;VALUE=DATE:20220924
DTEND;VALUE=DATE:20220929
DTSTAMP:20260421T134711
CREATED:20220914T122031Z
LAST-MODIFIED:20220914T122031Z
UID:1323-1663981200-1664326799@politicsforthemany.co.uk
SUMMARY:The World Transformed: a festival of radical politics\, art and music. Liverpool
DESCRIPTION:Get ready for 4 days packed full of movement-wide discussions\, debates\, workshops\, parties and more! \nAt TWT22\, you’ll hear from those on the frontlines of working class struggle – from resisting soaring living costs to fighting for climate justice. And you’ll come away with ideas\, skills and strategies to organise in your community. \nFeaturing Zarah Sultana MP\, the Don’t Pay UK campaign\, Eat Me Revolutionary Cabaret\, DJ Wes Baggaley\, Ava Vidal and Friends\, Ian Byrne MP\, plus so many more still to be announced\, you won’t want to miss this year’s festival of left resistance.
URL:https://politicsforthemany.co.uk/event/the-world-transformed-a-festival-of-radical-politics-art-and-music-liverpool/
ATTACH;FMTTYPE=image/jpeg:https://politicsforthemany.co.uk/wp-content/uploads/2022/09/TWT-scaled.jpg
END:VEVENT
BEGIN:VEVENT
DTSTART;TZID=Europe/London:20220927T163000
DTEND;TZID=Europe/London:20220927T180000
DTSTAMP:20260421T134711
CREATED:20220914T124913Z
LAST-MODIFIED:20220914T124913Z
UID:1325-1664296200-1664301600@politicsforthemany.co.uk
SUMMARY:Defend our right to strike & resist! LAAA @ #TWT22
DESCRIPTION:Kevin Courtney\, NEU GS // Olivia Blake MP // Mick Whelan\, ASLEF GS // Andrea Egan. UNISON President // Chantelle Lunt\, BLM & Kill the Bill // Nabeela Mowlana\, Young Labour.\n\nAs inflation and energy bills skyrocket and wages hit rock bottom\, we’re seeing a huge wave of resistance through strikes and civil disobedience. Having failed to offer any answers to the rocketing cost of living\, the Tories resort to divide and rule – pitting worker against worker with racism or a race to the bottom logic on pay and conditions. Now\, building on decades of anti-trade union legislation\, they’re proposing fresh attacks on the right to strike\, while further dismantling our right to protest. Join us to debate how we defend our right to resist and build the fightback.\n\nLabour Assembly at #TWT22
URL:https://politicsforthemany.co.uk/event/defend-our-right-to-strike-resist-laaa-twt22/
ATTACH;FMTTYPE=image/jpeg:https://politicsforthemany.co.uk/wp-content/uploads/2022/09/LAAG.jpg
END:VEVENT
END:VCALENDAR