BEGIN:VCALENDAR
VERSION:2.0
PRODID:-//Politics for the Many - ECPv6.15.20//NONSGML v1.0//EN
CALSCALE:GREGORIAN
METHOD:PUBLISH
X-WR-CALNAME:Politics for the Many
X-ORIGINAL-URL:https://politicsforthemany.co.uk
X-WR-CALDESC:Events for Politics for the Many
REFRESH-INTERVAL;VALUE=DURATION:PT1H
X-Robots-Tag:noindex
X-PUBLISHED-TTL:PT1H
BEGIN:VTIMEZONE
TZID:Europe/London
BEGIN:DAYLIGHT
TZOFFSETFROM:+0000
TZOFFSETTO:+0100
TZNAME:BST
DTSTART:20240331T010000
END:DAYLIGHT
BEGIN:STANDARD
TZOFFSETFROM:+0100
TZOFFSETTO:+0000
TZNAME:GMT
DTSTART:20241027T010000
END:STANDARD
BEGIN:DAYLIGHT
TZOFFSETFROM:+0000
TZOFFSETTO:+0100
TZNAME:BST
DTSTART:20250330T010000
END:DAYLIGHT
BEGIN:STANDARD
TZOFFSETFROM:+0100
TZOFFSETTO:+0000
TZNAME:GMT
DTSTART:20251026T010000
END:STANDARD
BEGIN:DAYLIGHT
TZOFFSETFROM:+0000
TZOFFSETTO:+0100
TZNAME:BST
DTSTART:20260329T010000
END:DAYLIGHT
BEGIN:STANDARD
TZOFFSETFROM:+0100
TZOFFSETTO:+0000
TZNAME:GMT
DTSTART:20261025T010000
END:STANDARD
END:VTIMEZONE
BEGIN:VEVENT
DTSTART;TZID=Europe/London:20250320T190000
DTEND;TZID=Europe/London:20250320T203000
DTSTAMP:20260424T122515
CREATED:20250129T164115Z
LAST-MODIFIED:20250129T165601Z
UID:2208-1742497200-1742502600@politicsforthemany.co.uk
SUMMARY:Ford Dagenham Women - online
DESCRIPTION:Professor Mary Davis will explore the history of the Ford Dagenham dispute at this free online event. \nRegister here. \nPart of our joint initiative on Trade Union and Working Class History with the GFTU and the Working Class Movement Library.
URL:https://politicsforthemany.co.uk/event/ford-dagenham-women-online/
ATTACH;FMTTYPE=image/png:https://politicsforthemany.co.uk/wp-content/uploads/2023/05/MML.png
ORGANIZER;CN="Marx Memorial Library":MAILTO:info@marx-memorial-library.org.uk
END:VEVENT
END:VCALENDAR