BEGIN:VCALENDAR
VERSION:2.0
PRODID:-//Politics for the Many - ECPv6.15.20//NONSGML v1.0//EN
CALSCALE:GREGORIAN
METHOD:PUBLISH
X-WR-CALNAME:Politics for the Many
X-ORIGINAL-URL:https://politicsforthemany.co.uk
X-WR-CALDESC:Events for Politics for the Many
REFRESH-INTERVAL;VALUE=DURATION:PT1H
X-Robots-Tag:noindex
X-PUBLISHED-TTL:PT1H
BEGIN:VTIMEZONE
TZID:Europe/London
BEGIN:DAYLIGHT
TZOFFSETFROM:+0000
TZOFFSETTO:+0100
TZNAME:BST
DTSTART:20240331T010000
END:DAYLIGHT
BEGIN:STANDARD
TZOFFSETFROM:+0100
TZOFFSETTO:+0000
TZNAME:GMT
DTSTART:20241027T010000
END:STANDARD
BEGIN:DAYLIGHT
TZOFFSETFROM:+0000
TZOFFSETTO:+0100
TZNAME:BST
DTSTART:20250330T010000
END:DAYLIGHT
BEGIN:STANDARD
TZOFFSETFROM:+0100
TZOFFSETTO:+0000
TZNAME:GMT
DTSTART:20251026T010000
END:STANDARD
BEGIN:DAYLIGHT
TZOFFSETFROM:+0000
TZOFFSETTO:+0100
TZNAME:BST
DTSTART:20260329T010000
END:DAYLIGHT
BEGIN:STANDARD
TZOFFSETFROM:+0100
TZOFFSETTO:+0000
TZNAME:GMT
DTSTART:20261025T010000
END:STANDARD
END:VTIMEZONE
BEGIN:VEVENT
DTSTART;TZID=Europe/London:20250329T103000
DTEND;TZID=Europe/London:20250329T170000
DTSTAMP:20260424T122518
CREATED:20250129T153439Z
LAST-MODIFIED:20250129T153557Z
UID:2202-1743244200-1743267600@politicsforthemany.co.uk
SUMMARY:Socialism or Barbarism - 'Arise - a Festival of Left Ideas' Dayschool 2025 - London
DESCRIPTION:An Arise in-person Day School taking place on Saturday\, March 29 in Central London. \nJohn McDonnell MP // Richard Burgon MP // Ian Byrne MP // Pat Cullen MP\, Sinn Fein // Cat Hobbs\, We Own It // Sabby Dhalu\, Stand up to Racism // Gawain Little\, GFTU // Jess Barnard\, Labour NEC (pc) // Michael Roberts\, economist // Kate Hudson\, CND Vice-President // Sarah Woolley\, BFAWU // Matt Willgress\, ‘Arise – a Festival of Left Ideas’ // Louise Regan\, Palestine Solidarity Campaign & more tba. \nA dayschool of socialist political education\, activism & debate. Come together around the key issues facing the left\, and fight for socialist solutions to global crises. \nPlaces limited – get your tickets today! We hope to offer streaming/hybrid tickets nearer the time. \nHosted by Arise – A Festival of Left Ideas.
URL:https://politicsforthemany.co.uk/event/socialism-or-barbarism-arise-a-festival-of-left-ideas-dayschool-2025-london/
ATTACH;FMTTYPE=image/jpeg:https://politicsforthemany.co.uk/wp-content/uploads/2022/07/Arise-logo.jpg
END:VEVENT
END:VCALENDAR