BEGIN:VCALENDAR
VERSION:2.0
PRODID:-//Politics for the Many - ECPv6.15.20//NONSGML v1.0//EN
CALSCALE:GREGORIAN
METHOD:PUBLISH
X-WR-CALNAME:Politics for the Many
X-ORIGINAL-URL:https://politicsforthemany.co.uk
X-WR-CALDESC:Events for Politics for the Many
REFRESH-INTERVAL;VALUE=DURATION:PT1H
X-Robots-Tag:noindex
X-PUBLISHED-TTL:PT1H
BEGIN:VTIMEZONE
TZID:Europe/London
BEGIN:DAYLIGHT
TZOFFSETFROM:+0000
TZOFFSETTO:+0100
TZNAME:BST
DTSTART:20200329T010000
END:DAYLIGHT
BEGIN:STANDARD
TZOFFSETFROM:+0100
TZOFFSETTO:+0000
TZNAME:GMT
DTSTART:20201025T010000
END:STANDARD
BEGIN:DAYLIGHT
TZOFFSETFROM:+0000
TZOFFSETTO:+0100
TZNAME:BST
DTSTART:20210328T010000
END:DAYLIGHT
BEGIN:STANDARD
TZOFFSETFROM:+0100
TZOFFSETTO:+0000
TZNAME:GMT
DTSTART:20211031T010000
END:STANDARD
BEGIN:DAYLIGHT
TZOFFSETFROM:+0000
TZOFFSETTO:+0100
TZNAME:BST
DTSTART:20220327T010000
END:DAYLIGHT
BEGIN:STANDARD
TZOFFSETFROM:+0100
TZOFFSETTO:+0000
TZNAME:GMT
DTSTART:20221030T010000
END:STANDARD
END:VTIMEZONE
BEGIN:VEVENT
DTSTART;TZID=Europe/London:20210610T203000
DTEND;TZID=Europe/London:20210610T220000
DTSTAMP:20260424T153246
CREATED:20210524T150043Z
LAST-MODIFIED:20210524T150607Z
UID:681-1623357000-1623362400@politicsforthemany.co.uk
SUMMARY:Labour for a New Democracy: Defeating right-wing populism
DESCRIPTION:With politicians like Donald Trump\, Victor Orban and Boris Johnson taking unbridled power under winner-takes-all systems\, it’s time for a look at how first past the post hands power to extremists. \nJoin us for our fourth Roadshow event\, featuring Billy Bragg\, MPs Rachael Maskell and Stephen Kinnock and LCER’s Maria Iacovou – chaired by Compass’ Frances Foley. We’ll be discussing why First Past the Post no longer offers protection from extremism\, and how the far right can be defeated under Proportional Representation. What can we learn from other countries – with both FPTP and PR – about facing down right wing populism? Come along and join the discussion. \nBook Here: https://www.labourforanewdemocracy.org.uk/event-listings/defeating-right-wing-populism
URL:https://politicsforthemany.co.uk/event/labour-for-a-new-democracy-defeating-right-wing-populism/
LOCATION:Online
ATTACH;FMTTYPE=image/jpeg:https://politicsforthemany.co.uk/wp-content/uploads/2021/05/Right_wing_populism-scaled.jpeg
ORGANIZER;CN="Labour for a New Democracy":MAILTO:hello@labourforanewdemocracy.org.uk
END:VEVENT
BEGIN:VEVENT
DTSTART;TZID=Europe/London:20210621T200000
DTEND;TZID=Europe/London:20210621T213000
DTSTAMP:20260424T153246
CREATED:20210524T150449Z
LAST-MODIFIED:20210524T150646Z
UID:683-1624305600-1624311000@politicsforthemany.co.uk
SUMMARY:Labour for a New Democracy: A new democracy for a Green New Deal?
DESCRIPTION:Is our current system really the best way to achieve radical policies like the Green New Deal\, or can a new democracy get us there faster? Join the discussion at this event co-hosted with Momentum. \nFeaturing an open discussion including Clive Lewis MP\, trade union climate activist Sam Mason\, American academic Salomon Orellana\, chaired by Momentum’s Ana Oppenheim. \nBook here: https://www.labourforanewdemocracy.org.uk/event-listings/new-democracy-green-new-deal
URL:https://politicsforthemany.co.uk/event/labour-for-a-new-democracy-a-new-democracy-for-a-green-new-deal/
LOCATION:Online
ATTACH;FMTTYPE=image/jpeg:https://politicsforthemany.co.uk/wp-content/uploads/2021/05/New_democracy_for_a_Green_New_Deal-scaled.jpeg
ORGANIZER;CN="Labour for a New Democracy":MAILTO:hello@labourforanewdemocracy.org.uk
END:VEVENT
END:VCALENDAR