BEGIN:VCALENDAR
VERSION:2.0
PRODID:-//Politics for the Many - ECPv6.15.20//NONSGML v1.0//EN
CALSCALE:GREGORIAN
METHOD:PUBLISH
X-ORIGINAL-URL:https://politicsforthemany.co.uk
X-WR-CALDESC:Events for Politics for the Many
REFRESH-INTERVAL;VALUE=DURATION:PT1H
X-Robots-Tag:noindex
X-PUBLISHED-TTL:PT1H
BEGIN:VTIMEZONE
TZID:Europe/London
BEGIN:DAYLIGHT
TZOFFSETFROM:+0000
TZOFFSETTO:+0100
TZNAME:BST
DTSTART:20200329T010000
END:DAYLIGHT
BEGIN:STANDARD
TZOFFSETFROM:+0100
TZOFFSETTO:+0000
TZNAME:GMT
DTSTART:20201025T010000
END:STANDARD
BEGIN:DAYLIGHT
TZOFFSETFROM:+0000
TZOFFSETTO:+0100
TZNAME:BST
DTSTART:20210328T010000
END:DAYLIGHT
BEGIN:STANDARD
TZOFFSETFROM:+0100
TZOFFSETTO:+0000
TZNAME:GMT
DTSTART:20211031T010000
END:STANDARD
BEGIN:DAYLIGHT
TZOFFSETFROM:+0000
TZOFFSETTO:+0100
TZNAME:BST
DTSTART:20220327T010000
END:DAYLIGHT
BEGIN:STANDARD
TZOFFSETFROM:+0100
TZOFFSETTO:+0000
TZNAME:GMT
DTSTART:20221030T010000
END:STANDARD
END:VTIMEZONE
BEGIN:VEVENT
DTSTART;TZID=Europe/London:20211202T180000
DTEND;TZID=Europe/London:20211202T180000
DTSTAMP:20260422T015240
CREATED:20211123T171014Z
LAST-MODIFIED:20211124T095801Z
UID:766-1638468000-1638468000@politicsforthemany.co.uk
SUMMARY:CWU for PR
DESCRIPTION:
URL:https://politicsforthemany.co.uk/event/cwu-for-pr/
LOCATION:Online
END:VEVENT
BEGIN:VEVENT
DTSTART;TZID=Europe/London:20211202T190000
DTEND;TZID=Europe/London:20211202T190000
DTSTAMP:20260422T015240
CREATED:20211123T170728Z
LAST-MODIFIED:20211124T095842Z
UID:764-1638471600-1638471600@politicsforthemany.co.uk
SUMMARY:USDAW for PR
DESCRIPTION:
URL:https://politicsforthemany.co.uk/event/usdaw-for-pr/
LOCATION:Online
END:VEVENT
END:VCALENDAR